BEGIN:VCALENDAR
VERSION:2.0
PRODID:-//E se la Fede avesse Ragione? - ECPv5.9.1//NONSGML v1.0//EN
CALSCALE:GREGORIAN
METHOD:PUBLISH
X-WR-CALNAME:E se la Fede avesse Ragione?
X-ORIGINAL-URL:http://www.eselafede.it
X-WR-CALDESC:Eventi per E se la Fede avesse Ragione?
BEGIN:VTIMEZONE
TZID:Europe/Rome
BEGIN:DAYLIGHT
TZOFFSETFROM:+0100
TZOFFSETTO:+0200
TZNAME:CEST
DTSTART:20200329T010000
END:DAYLIGHT
BEGIN:STANDARD
TZOFFSETFROM:+0200
TZOFFSETTO:+0100
TZNAME:CET
DTSTART:20201025T010000
END:STANDARD
END:VTIMEZONE
BEGIN:VEVENT
DTSTART;TZID=Europe/Rome:20200220T194500
DTEND;TZID=Europe/Rome:20200220T223000
DTSTAMP:20260422T125812
CREATED:20190802T093110Z
LAST-MODIFIED:20190802T093110Z
UID:3622-1582227900-1582237800@www.eselafede.it
SUMMARY:Preghiera Eucaristica - 20/02/2020
DESCRIPTION:Orari:\n– ore 19.45: possibilità della condivisione della cena assieme – ore 20.45: accoglienza \n– ore 21.00: inizio catechesi \n– ore 21.40: breve presentazione della vita di un santo \n– ore 21.55: adorazione \n– ore 22.20: saluti \nTutti gli altri incontri QUI: http://www.eselafede.it/incontri/
URL:http://www.eselafede.it/event/preghiera-eucaristica-20-02-2020/
LOCATION:Basilia Maria Ausiliatrice\, Piazza Maria Ausiliatrice\, Torino\, Italia\, 10152\, Italia
ORGANIZER;CN="E%20se%20la%20fede%20avesse%20ragione%3F":MAILTO:info@eselafede.it
END:VEVENT
END:VCALENDAR